Package: cellHTS2 Version: 2.68.0 Command: /Library/Frameworks/R.framework/Resources/bin/R CMD check --install=check:cellHTS2.install-out.txt --library=/Library/Frameworks/R.framework/Resources/library --no-vignettes --timings cellHTS2_2.68.0.tar.gz StartedAt: 2024-06-09 19:18:20 -0400 (Sun, 09 Jun 2024) EndedAt: 2024-06-09 19:22:39 -0400 (Sun, 09 Jun 2024) EllapsedTime: 259.4 seconds RetCode: 0 Status: OK CheckDir: cellHTS2.Rcheck Warnings: 0