Package: cellHTS2 Version: 2.68.0 Command: /home/biocbuild/R/R-beta-2024-04-15_r86425/bin/R CMD INSTALL cellHTS2 StartedAt: 2024-05-08 20:48:50 -0000 (Wed, 08 May 2024) EndedAt: 2024-05-08 20:49:34 -0000 (Wed, 08 May 2024) EllapsedTime: 44.0 seconds RetCode: 0 Status: OK