Package: cellHTS2 Version: 2.68.0 Command: /home/biocbuild/R/R-beta-2024-04-15_r86425/bin/R CMD build --keep-empty-dirs --no-resave-data cellHTS2 StartedAt: 2024-05-08 23:08:51 -0000 (Wed, 08 May 2024) EndedAt: 2024-05-08 23:12:36 -0000 (Wed, 08 May 2024) EllapsedTime: 225.3 seconds RetCode: 0 Status: OK PackageFile: cellHTS2_2.68.0.tar.gz PackageFileSize: 3.686 MiB