Package: cellHTS2 Version: 2.68.0 Command: /Library/Frameworks/R.framework/Resources/bin/R CMD INSTALL cellHTS2 StartedAt: 2024-06-09 16:52:39 -0400 (Sun, 09 Jun 2024) EndedAt: 2024-06-09 16:53:23 -0400 (Sun, 09 Jun 2024) EllapsedTime: 43.6 seconds RetCode: 0 Status: OK