Package: cellHTS2 Version: 2.68.0 Command: /Library/Frameworks/R.framework/Resources/bin/R CMD INSTALL cellHTS2 StartedAt: 2024-10-16 17:53:17 -0400 (Wed, 16 Oct 2024) EndedAt: 2024-10-16 17:53:54 -0400 (Wed, 16 Oct 2024) EllapsedTime: 36.6 seconds RetCode: 0 Status: OK