Package: cellHTS2 Version: 2.68.0 Maintainer: Wolfgang Huber MaintainerEmail: wolfgang.huber at embl.org git_url: https://git.bioconductor.org/packages/cellHTS2 git_branch: RELEASE_3_19 git_last_commit: e739387 git_last_commit_date: 2024-04-30 10:16:59 -0400 (Tue, 30 Apr 2024)