Package: celda Version: 1.20.0 Command: E:\biocbuild\bbs-3.19-bioc\R\bin\R.exe CMD INSTALL celda StartedAt: 2024-10-16 17:12:57 -0400 (Wed, 16 Oct 2024) EndedAt: 2024-10-16 17:15:00 -0400 (Wed, 16 Oct 2024) EllapsedTime: 122.3 seconds RetCode: 0 Status: OK