Package: celda Version: 1.20.0 Command: E:\biocbuild\bbs-3.19-bioc\R\bin\R.exe CMD check --no-multiarch --install=check:celda.install-out.txt --library=E:\biocbuild\bbs-3.19-bioc\R\library --no-vignettes --timings celda_1.20.0.tar.gz StartedAt: 2024-10-16 23:47:57 -0400 (Wed, 16 Oct 2024) EndedAt: 2024-10-16 23:57:42 -0400 (Wed, 16 Oct 2024) EllapsedTime: 585.1 seconds RetCode: 0 Status: OK CheckDir: celda.Rcheck Warnings: 0