Package: celda Version: 1.20.0 Command: F:\biocbuild\bbs-3.19-bioc\R\bin\R.exe CMD check --no-multiarch --install=check:celda.install-out.txt --library=F:\biocbuild\bbs-3.19-bioc\R\library --no-vignettes --timings celda_1.20.0.tar.gz StartedAt: 2024-06-26 23:51:07 -0400 (Wed, 26 Jun 2024) EndedAt: 2024-06-27 00:00:22 -0400 (Thu, 27 Jun 2024) EllapsedTime: 554.8 seconds RetCode: 0 Status: OK CheckDir: celda.Rcheck Warnings: 0