Package: celda Version: 1.20.0 Command: /Library/Frameworks/R.framework/Resources/bin/R CMD check --install=check:celda.install-out.txt --library=/Library/Frameworks/R.framework/Resources/library --no-vignettes --timings celda_1.20.0.tar.gz StartedAt: 2024-10-17 02:25:01 -0400 (Thu, 17 Oct 2024) EndedAt: 2024-10-17 02:43:51 -0400 (Thu, 17 Oct 2024) EllapsedTime: 1130.8 seconds RetCode: 0 Status: OK CheckDir: celda.Rcheck Warnings: 0