Package: celda Version: 1.20.0 Command: rm -rf celda.buildbin-libdir && mkdir celda.buildbin-libdir && /Users/biocbuild/BBS/utils/build-universal.sh celda_1.20.0.tar.gz /Library/Frameworks/R.framework/Resources/bin/R celda.buildbin-libdir StartedAt: 2024-10-17 15:48:28 -0400 (Thu, 17 Oct 2024) EndedAt: 2024-10-17 15:51:07 -0400 (Thu, 17 Oct 2024) EllapsedTime: 158.6 seconds RetCode: 0 Status: OK PackageFile: celda_1.20.0.tgz PackageFileSize: 3.329 MiB