Package: celda Version: 1.20.0 Command: /Library/Frameworks/R.framework/Resources/bin/R CMD INSTALL celda StartedAt: 2024-06-09 17:19:50 -0400 (Sun, 09 Jun 2024) EndedAt: 2024-06-09 17:21:18 -0400 (Sun, 09 Jun 2024) EllapsedTime: 88.0 seconds RetCode: 0 Status: OK