Package: celda Version: 1.20.0 Command: /Library/Frameworks/R.framework/Resources/bin/R CMD build --keep-empty-dirs --no-resave-data celda StartedAt: 2024-10-16 20:59:18 -0400 (Wed, 16 Oct 2024) EndedAt: 2024-10-16 21:05:26 -0400 (Wed, 16 Oct 2024) EllapsedTime: 368.4 seconds RetCode: 0 Status: OK PackageFile: celda_1.20.0.tar.gz PackageFileSize: 2.436 MiB