Package: celaref Version: 1.22.0 Command: chmod a+r celaref -R && E:\biocbuild\bbs-3.19-bioc\R\bin\R.exe CMD build --keep-empty-dirs --no-resave-data celaref StartedAt: 2024-10-16 18:03:50 -0400 (Wed, 16 Oct 2024) EndedAt: 2024-10-16 18:08:55 -0400 (Wed, 16 Oct 2024) EllapsedTime: 305.4 seconds RetCode: 0 Status: OK PackageFile: celaref_1.22.0.tar.gz PackageFileSize: 2.031 MiB