Package: celaref Version: 1.22.0 Command: /home/biocbuild/bbs-3.19-bioc/R/bin/R CMD INSTALL celaref StartedAt: 2024-10-16 15:58:53 -0400 (Wed, 16 Oct 2024) EndedAt: 2024-10-16 15:59:18 -0400 (Wed, 16 Oct 2024) EllapsedTime: 25.1 seconds RetCode: 0 Status: OK