Package: celaref Version: 1.22.0 Command: /Library/Frameworks/R.framework/Resources/bin/R CMD build --keep-empty-dirs --no-resave-data celaref StartedAt: 2024-10-16 17:45:30 -0400 (Wed, 16 Oct 2024) EndedAt: 2024-10-16 17:51:40 -0400 (Wed, 16 Oct 2024) EllapsedTime: 370.9 seconds RetCode: 0 Status: OK PackageFile: celaref_1.22.0.tar.gz PackageFileSize: 3.072 MiB