Package: celaref Version: 1.22.0 Command: /home/biocbuild/R/R-beta-2024-04-15_r86425/bin/R CMD build --keep-empty-dirs --no-resave-data celaref StartedAt: 2024-05-08 23:07:20 -0000 (Wed, 08 May 2024) EndedAt: 2024-05-08 23:11:51 -0000 (Wed, 08 May 2024) EllapsedTime: 271.4 seconds RetCode: 0 Status: OK PackageFile: celaref_1.22.0.tar.gz PackageFileSize: 2.11 MiB