Package: ceRNAnetsim Version: 1.16.0 Command: E:\biocbuild\bbs-3.19-bioc\R\bin\R.exe CMD check --no-multiarch --install=check:ceRNAnetsim.install-out.txt --library=E:\biocbuild\bbs-3.19-bioc\R\library --no-vignettes --timings ceRNAnetsim_1.16.0.tar.gz StartedAt: 2024-10-16 23:51:56 -0400 (Wed, 16 Oct 2024) EndedAt: 2024-10-16 23:54:20 -0400 (Wed, 16 Oct 2024) EllapsedTime: 143.6 seconds RetCode: 0 Status: OK CheckDir: ceRNAnetsim.Rcheck Warnings: 0