Package: ceRNAnetsim Version: 1.16.0 Command: /Library/Frameworks/R.framework/Resources/bin/R CMD INSTALL ceRNAnetsim StartedAt: 2024-10-16 16:10:20 -0400 (Wed, 16 Oct 2024) EndedAt: 2024-10-16 16:10:38 -0400 (Wed, 16 Oct 2024) EllapsedTime: 18.3 seconds RetCode: 0 Status: OK