Package: ceRNAnetsim Version: 1.16.0 Command: /Library/Frameworks/R.framework/Resources/bin/R CMD build --keep-empty-dirs --no-resave-data ceRNAnetsim StartedAt: 2024-10-16 17:49:28 -0400 (Wed, 16 Oct 2024) EndedAt: 2024-10-16 17:59:56 -0400 (Wed, 16 Oct 2024) EllapsedTime: 627.7 seconds RetCode: 0 Status: OK PackageFile: ceRNAnetsim_1.16.0.tar.gz PackageFileSize: 3.054 MiB