Package: ceRNAnetsim Version: 1.16.0 Command: rm -rf ceRNAnetsim.buildbin-libdir && mkdir ceRNAnetsim.buildbin-libdir && /Users/biocbuild/BBS/utils/build-universal.sh ceRNAnetsim_1.16.0.tar.gz /Library/Frameworks/R.framework/Resources/bin/R ceRNAnetsim.buildbin-libdir StartedAt: 2024-10-17 15:49:17 -0400 (Thu, 17 Oct 2024) EndedAt: 2024-10-17 15:49:35 -0400 (Thu, 17 Oct 2024) EllapsedTime: 17.3 seconds RetCode: 0 Status: OK PackageFile: ceRNAnetsim_1.16.0.tgz PackageFileSize: 2.578 MiB