Package: ceRNAnetsim Version: 1.16.0 Command: rm -rf ceRNAnetsim.buildbin-libdir && mkdir ceRNAnetsim.buildbin-libdir && /Users/biocbuild/BBS/utils/build-universal.sh ceRNAnetsim_1.16.0.tar.gz /Library/Frameworks/R.framework/Resources/bin/R ceRNAnetsim.buildbin-libdir StartedAt: 2024-10-18 17:42:30 -0400 (Fri, 18 Oct 2024) EndedAt: 2024-10-18 17:42:40 -0400 (Fri, 18 Oct 2024) EllapsedTime: 10.1 seconds RetCode: 0 Status: OK PackageFile: ceRNAnetsim_1.16.0.tgz PackageFileSize: 2.587 MiB