Package: ccrepe Version: 1.40.0 Command: /Library/Frameworks/R.framework/Resources/bin/R CMD build --keep-empty-dirs --no-resave-data ccrepe StartedAt: 2024-10-16 17:44:56 -0400 (Wed, 16 Oct 2024) EndedAt: 2024-10-16 17:45:30 -0400 (Wed, 16 Oct 2024) EllapsedTime: 33.9 seconds RetCode: 0 Status: OK PackageFile: ccrepe_1.40.0.tar.gz PackageFileSize: 304.3 KiB