Package: ccrepe Version: 1.40.0 Command: rm -rf ccrepe.buildbin-libdir && mkdir ccrepe.buildbin-libdir && /Users/biocbuild/BBS/utils/build-universal.sh ccrepe_1.40.0.tar.gz /Library/Frameworks/R.framework/Resources/bin/R ccrepe.buildbin-libdir StartedAt: 2024-10-17 15:48:18 -0400 (Thu, 17 Oct 2024) EndedAt: 2024-10-17 15:48:28 -0400 (Thu, 17 Oct 2024) EllapsedTime: 9.7 seconds RetCode: 0 Status: OK PackageFile: ccrepe_1.40.0.tgz PackageFileSize: 360.4 KiB