Package: ccrepe Version: 1.40.0 Command: rm -rf ccrepe.buildbin-libdir && mkdir ccrepe.buildbin-libdir && /Users/biocbuild/BBS/utils/build-universal.sh ccrepe_1.40.0.tar.gz /Library/Frameworks/R.framework/Resources/bin/R ccrepe.buildbin-libdir StartedAt: 2024-05-27 01:27:39 -0400 (Mon, 27 May 2024) EndedAt: 2024-05-27 01:27:44 -0400 (Mon, 27 May 2024) EllapsedTime: 5.7 seconds RetCode: 0 Status: OK PackageFile: ccrepe_1.40.0.tgz PackageFileSize: 359.3 KiB