Package: ccrepe Version: 1.40.0 Command: /home/biocbuild/R/R-beta-2024-04-15_r86425/bin/R CMD build --keep-empty-dirs --no-resave-data ccrepe StartedAt: 2024-05-08 23:07:01 -0000 (Wed, 08 May 2024) EndedAt: 2024-05-08 23:07:14 -0000 (Wed, 08 May 2024) EllapsedTime: 13.0 seconds RetCode: 0 Status: OK PackageFile: ccrepe_1.40.0.tar.gz PackageFileSize: 291.7 KiB