Package: ccrepe Version: 1.40.0 Command: /Library/Frameworks/R.framework/Resources/bin/R CMD INSTALL ccrepe StartedAt: 2024-06-09 15:02:30 -0400 (Sun, 09 Jun 2024) EndedAt: 2024-06-09 15:02:35 -0400 (Sun, 09 Jun 2024) EllapsedTime: 5.3 seconds RetCode: 0 Status: OK