Package: ccrepe Version: 1.40.0 Command: rm -rf ccrepe.buildbin-libdir && mkdir ccrepe.buildbin-libdir && /Users/biocbuild/BBS/utils/build-universal.sh ccrepe_1.40.0.tar.gz /Library/Frameworks/R.framework/Resources/bin/R ccrepe.buildbin-libdir StartedAt: 2024-10-18 17:40:29 -0400 (Fri, 18 Oct 2024) EndedAt: 2024-10-18 17:40:34 -0400 (Fri, 18 Oct 2024) EllapsedTime: 4.5 seconds RetCode: 0 Status: OK PackageFile: ccrepe_1.40.0.tgz PackageFileSize: 360.3 KiB