Package: ccmap Version: 1.30.0 Command: E:\biocbuild\bbs-3.19-bioc\R\bin\R.exe CMD check --no-multiarch --install=check:ccmap.install-out.txt --library=E:\biocbuild\bbs-3.19-bioc\R\library --no-vignettes --timings ccmap_1.30.0.tar.gz StartedAt: 2024-10-16 23:46:27 -0400 (Wed, 16 Oct 2024) EndedAt: 2024-10-16 23:50:16 -0400 (Wed, 16 Oct 2024) EllapsedTime: 228.7 seconds RetCode: 0 Status: WARNINGS CheckDir: ccmap.Rcheck Warnings: 1