Package: ccmap Version: 1.30.0 Command: rm -rf ccmap.buildbin-libdir && mkdir ccmap.buildbin-libdir && E:\biocbuild\bbs-3.19-bioc\R\bin\R.exe CMD INSTALL --build --library=ccmap.buildbin-libdir ccmap_1.30.0.tar.gz StartedAt: 2024-10-17 07:29:37 -0400 (Thu, 17 Oct 2024) EndedAt: 2024-10-17 07:29:54 -0400 (Thu, 17 Oct 2024) EllapsedTime: 17.6 seconds RetCode: 0 Status: OK PackageFile: ccmap_1.30.0.zip PackageFileSize: 425.5 KiB