Package: ccmap Version: 1.30.0 Command: /Library/Frameworks/R.framework/Resources/bin/R CMD INSTALL ccmap StartedAt: 2024-06-09 15:09:40 -0400 (Sun, 09 Jun 2024) EndedAt: 2024-06-09 15:10:03 -0400 (Sun, 09 Jun 2024) EllapsedTime: 22.4 seconds RetCode: 0 Status: OK