Package: ccmap Version: 1.30.0 Command: /Library/Frameworks/R.framework/Resources/bin/R CMD build --keep-empty-dirs --no-resave-data ccmap StartedAt: 2024-06-09 16:06:23 -0400 (Sun, 09 Jun 2024) EndedAt: 2024-06-09 16:08:31 -0400 (Sun, 09 Jun 2024) EllapsedTime: 128.0 seconds RetCode: 0 Status: OK PackageFile: ccmap_1.30.0.tar.gz PackageFileSize: 444.1 KiB