Package: ccmap Version: 1.30.0 Command: /home/biocbuild/R/R-beta-2024-04-15_r86425/bin/R CMD check --install=check:ccmap.install-out.txt --library=/home/biocbuild/R/R-beta-2024-04-15_r86425/site-library --no-vignettes --timings ccmap_1.30.0.tar.gz StartedAt: 2024-05-09 05:36:59 -0000 (Thu, 09 May 2024) EndedAt: 2024-05-09 05:40:15 -0000 (Thu, 09 May 2024) EllapsedTime: 196.3 seconds RetCode: 0 Status: WARNINGS CheckDir: ccmap.Rcheck Warnings: 1