Package: ccmap Version: 1.30.0 Command: /home/biocbuild/R/R-beta-2024-04-15_r86425/bin/R CMD build --keep-empty-dirs --no-resave-data ccmap StartedAt: 2024-05-08 23:06:12 -0000 (Wed, 08 May 2024) EndedAt: 2024-05-08 23:08:48 -0000 (Wed, 08 May 2024) EllapsedTime: 155.2 seconds RetCode: 0 Status: OK PackageFile: ccmap_1.30.0.tar.gz PackageFileSize: 471.1 KiB