Package: ccmap Version: 1.30.0 Command: /Library/Frameworks/R.framework/Resources/bin/R CMD build --keep-empty-dirs --no-resave-data ccmap StartedAt: 2024-06-09 19:06:48 -0400 (Sun, 09 Jun 2024) EndedAt: 2024-06-09 19:09:19 -0400 (Sun, 09 Jun 2024) EllapsedTime: 150.7 seconds RetCode: 0 Status: OK PackageFile: ccmap_1.30.0.tar.gz PackageFileSize: 444.4 KiB