Package: ccmap Version: 1.30.0 Command: rm -rf ccmap.buildbin-libdir && mkdir ccmap.buildbin-libdir && /Users/biocbuild/BBS/utils/build-universal.sh ccmap_1.30.0.tar.gz /Library/Frameworks/R.framework/Resources/bin/R ccmap.buildbin-libdir StartedAt: 2024-06-11 10:28:22 -0400 (Tue, 11 Jun 2024) EndedAt: 2024-06-11 10:28:51 -0400 (Tue, 11 Jun 2024) EllapsedTime: 28.5 seconds RetCode: 0 Status: OK PackageFile: ccmap_1.30.0.tgz PackageFileSize: 418.2 KiB