Package: ccmap Version: 1.30.0 Command: /Library/Frameworks/R.framework/Resources/bin/R CMD build --keep-empty-dirs --no-resave-data ccmap StartedAt: 2024-10-16 20:57:19 -0400 (Wed, 16 Oct 2024) EndedAt: 2024-10-16 21:00:01 -0400 (Wed, 16 Oct 2024) EllapsedTime: 162.3 seconds RetCode: 0 Status: OK PackageFile: ccmap_1.30.0.tar.gz PackageFileSize: 444.4 KiB