Package: ccfindR Version: 1.24.0 Command: chmod a+r ccfindR -R && E:\biocbuild\bbs-3.19-bioc\R\bin\R.exe CMD build --keep-empty-dirs --no-resave-data ccfindR StartedAt: 2024-10-16 18:03:09 -0400 (Wed, 16 Oct 2024) EndedAt: 2024-10-16 18:08:10 -0400 (Wed, 16 Oct 2024) EllapsedTime: 300.7 seconds RetCode: 0 Status: OK PackageFile: ccfindR_1.24.0.tar.gz PackageFileSize: 758.6 KiB