Package: ccfindR Version: 1.24.0 Command: rm -rf ccfindR.buildbin-libdir && mkdir ccfindR.buildbin-libdir && F:\biocbuild\bbs-3.19-bioc\R\bin\R.exe CMD INSTALL --build --library=ccfindR.buildbin-libdir ccfindR_1.24.0.tar.gz StartedAt: 2024-06-27 07:57:13 -0400 (Thu, 27 Jun 2024) EndedAt: 2024-06-27 07:58:24 -0400 (Thu, 27 Jun 2024) EllapsedTime: 71.4 seconds RetCode: 0 Status: OK PackageFile: ccfindR_1.24.0.zip PackageFileSize: 1.554 MiB