Package: ccImpute Version: 1.6.1 Command: /Library/Frameworks/R.framework/Resources/bin/R CMD INSTALL ccImpute StartedAt: 2024-10-16 15:44:33 -0400 (Wed, 16 Oct 2024) EndedAt: 2024-10-16 15:45:59 -0400 (Wed, 16 Oct 2024) EllapsedTime: 85.8 seconds RetCode: 0 Status: OK