Package: ccImpute Version: 1.6.1 Command: /Library/Frameworks/R.framework/Resources/bin/R CMD build --keep-empty-dirs --no-resave-data ccImpute StartedAt: 2024-10-16 17:44:20 -0400 (Wed, 16 Oct 2024) EndedAt: 2024-10-16 17:53:11 -0400 (Wed, 16 Oct 2024) EllapsedTime: 530.2 seconds RetCode: 0 Status: OK PackageFile: ccImpute_1.6.1.tar.gz PackageFileSize: 986 KiB