Package: ccImpute Version: 1.6.0 Command: /Library/Frameworks/R.framework/Resources/bin/R CMD INSTALL ccImpute StartedAt: 2024-06-09 15:58:49 -0400 (Sun, 09 Jun 2024) EndedAt: 2024-06-09 15:59:19 -0400 (Sun, 09 Jun 2024) EllapsedTime: 30.9 seconds RetCode: 0 Status: OK