Package: ccImpute Version: 1.6.0 Command: /Library/Frameworks/R.framework/Resources/bin/R CMD build --keep-empty-dirs --no-resave-data ccImpute StartedAt: 2024-06-09 19:06:47 -0400 (Sun, 09 Jun 2024) EndedAt: 2024-06-09 19:10:18 -0400 (Sun, 09 Jun 2024) EllapsedTime: 211.8 seconds RetCode: 0 Status: OK PackageFile: ccImpute_1.6.0.tar.gz PackageFileSize: 229.8 KiB