Package: ccImpute Version: 1.6.1 Command: rm -rf ccImpute.buildbin-libdir && mkdir ccImpute.buildbin-libdir && /Users/biocbuild/BBS/utils/build-universal.sh ccImpute_1.6.1.tar.gz /Library/Frameworks/R.framework/Resources/bin/R ccImpute.buildbin-libdir StartedAt: 2024-10-18 17:40:12 -0400 (Fri, 18 Oct 2024) EndedAt: 2024-10-18 17:41:08 -0400 (Fri, 18 Oct 2024) EllapsedTime: 56.1 seconds RetCode: 0 Status: OK PackageFile: ccImpute_1.6.1.tgz PackageFileSize: 1.058 MiB