Package: ccImpute Version: 1.6.1 Maintainer: Marcin Malec MaintainerEmail: mamalec at iu.edu git_url: https://git.bioconductor.org/packages/ccImpute git_branch: RELEASE_3_19 git_last_commit: 00da60b git_last_commit_date: 2024-07-23 18:49:50 -0400 (Tue, 23 Jul 2024)