Package: cbpManager Version: 1.12.0 Command: E:\biocbuild\bbs-3.19-bioc\R\bin\R.exe CMD check --no-multiarch --install=check:cbpManager.install-out.txt --library=E:\biocbuild\bbs-3.19-bioc\R\library --no-vignettes --timings cbpManager_1.12.0.tar.gz StartedAt: 2024-10-16 23:44:27 -0400 (Wed, 16 Oct 2024) EndedAt: 2024-10-16 23:47:32 -0400 (Wed, 16 Oct 2024) EllapsedTime: 185.8 seconds RetCode: 0 Status: WARNINGS CheckDir: cbpManager.Rcheck Warnings: 1