Package: cbpManager Version: 1.12.0 Command: chmod a+r cbpManager -R && E:\biocbuild\bbs-3.19-bioc\R\bin\R.exe CMD build --keep-empty-dirs --no-resave-data cbpManager StartedAt: 2024-10-16 18:03:07 -0400 (Wed, 16 Oct 2024) EndedAt: 2024-10-16 18:03:48 -0400 (Wed, 16 Oct 2024) EllapsedTime: 40.2 seconds RetCode: 0 Status: OK PackageFile: cbpManager_1.12.0.tar.gz PackageFileSize: 4.542 MiB