Package: cbpManager Version: 1.12.0 Command: chmod a+r cbpManager -R && F:\biocbuild\bbs-3.19-bioc\R\bin\R.exe CMD build --keep-empty-dirs --no-resave-data cbpManager StartedAt: 2024-06-26 17:38:15 -0400 (Wed, 26 Jun 2024) EndedAt: 2024-06-26 17:38:51 -0400 (Wed, 26 Jun 2024) EllapsedTime: 35.5 seconds RetCode: 0 Status: OK PackageFile: cbpManager_1.12.0.tar.gz PackageFileSize: 4.542 MiB