Package: cbpManager Version: 1.12.0 Command: rm -rf cbpManager.buildbin-libdir && mkdir cbpManager.buildbin-libdir && F:\biocbuild\bbs-3.19-bioc\R\bin\R.exe CMD INSTALL --build --library=cbpManager.buildbin-libdir cbpManager_1.12.0.tar.gz StartedAt: 2024-06-27 07:57:10 -0400 (Thu, 27 Jun 2024) EndedAt: 2024-06-27 07:57:37 -0400 (Thu, 27 Jun 2024) EllapsedTime: 27.0 seconds RetCode: 0 Status: OK PackageFile: cbpManager_1.12.0.zip PackageFileSize: 3.756 MiB