Package: cbpManager Version: 1.12.0 Command: /home/biocbuild/bbs-3.19-bioc/R/bin/R CMD check --install=check:cbpManager.install-out.txt --library=/home/biocbuild/bbs-3.19-bioc/R/site-library --timings cbpManager_1.12.0.tar.gz StartedAt: 2024-10-16 22:29:02 -0400 (Wed, 16 Oct 2024) EndedAt: 2024-10-16 22:30:07 -0400 (Wed, 16 Oct 2024) EllapsedTime: 65.2 seconds RetCode: 0 Status: WARNINGS CheckDir: cbpManager.Rcheck Warnings: 1